BEGIN:VCALENDAR
VERSION:2.0
PRODID:-//wp-events-plugin.com//5.9942//EN
TZID:America/New_York
X-WR-TIMEZONE:America/New_York
BEGIN:VEVENT
UID:61@georgia.surfrider.org
DTSTART;TZID=America/New_York:20210428T190000
DTEND;TZID=America/New_York:20210428T203000
DTSTAMP:20210418T155315Z
URL:https://georgia.surfrider.org/events/april-2021-executive-committee-me
 eting-virtual/
SUMMARY:April 2021 SFGA Executive Committee Meeting (Virtual)
DESCRIPTION:This meeting is for the Executive Committee of Surfrider Founda
 tion Georgia.\n\nZoom meeting details will be sent separately.\nRSVP\nLet 
 us know if you are coming! This meeting is for Executive Committee members
  and those interested in learning about volunteer opportunities.\n\n[gravi
 tyform id="14" title="false" description="false"]
ATTACH;FMTTYPE=image/jpeg:https://georgia.surfrider.org/wp-content/uploads
 /2018/05/reefsm.jpg
LOCATION:Virtual\, Online\, Zoom\, United States
X-APPLE-STRUCTURED-LOCATION;VALUE=URI;X-ADDRESS=Online\, Zoom\, United Stat
 es;X-APPLE-RADIUS=100;X-TITLE=Virtual:geo:0,0
END:VEVENT
BEGIN:VTIMEZONE
TZID:America/New_York
X-LIC-LOCATION:America/New_York
BEGIN:DAYLIGHT
DTSTART:20210314T030000
TZOFFSETFROM:-0500
TZOFFSETTO:-0400
TZNAME:EDT
END:DAYLIGHT
END:VTIMEZONE
END:VCALENDAR