BEGIN:VCALENDAR
VERSION:2.0
PRODID:-//wp-events-plugin.com//5.9942//EN
TZID:America/New_York
X-WR-TIMEZONE:America/New_York
BEGIN:VEVENT
UID:60@georgia.surfrider.org
DTSTART;TZID=America/New_York;VALUE=DATE:20211009
DTEND;TZID=America/New_York;VALUE=DATE:20211011
DTSTAMP:20210418T141619Z
URL:https://georgia.surfrider.org/events/oconee-paddle-championship-2021/
SUMMARY:Oconee Paddle Championship 2021
DESCRIPTION:Surfrider Foundation Georgia is the designated beneficiary of t
 he Oconee Paddle Championship (OPC). This race will be hosted this year in
  a virtual format (like last year). However\, please check back later for 
 paddling at select locations. The OPC is the final race of the Southern St
 oke race series.
ATTACH;FMTTYPE=image/jpeg:https://georgia.surfrider.org/wp-content/uploads
 /2018/03/ritzheader.jpg
LOCATION:Virtual\, Online\, Zoom\, United States
X-APPLE-STRUCTURED-LOCATION;VALUE=URI;X-ADDRESS=Online\, Zoom\, United Stat
 es;X-APPLE-RADIUS=100;X-TITLE=Virtual:geo:0,0
END:VEVENT
BEGIN:VTIMEZONE
TZID:America/New_York
X-LIC-LOCATION:America/New_York
BEGIN:DAYLIGHT
DTSTART:20210314T030000
TZOFFSETFROM:-0500
TZOFFSETTO:-0400
TZNAME:EDT
END:DAYLIGHT
END:VTIMEZONE
END:VCALENDAR